BEGIN:VCALENDAR
VERSION:2.0
PRODID:-//Joint Anchor Technique - ECPv6.15.20//NONSGML v1.0//EN
CALSCALE:GREGORIAN
METHOD:PUBLISH
X-ORIGINAL-URL:https://jointanchortechnique.org
X-WR-CALDESC:Events for Joint Anchor Technique
REFRESH-INTERVAL;VALUE=DURATION:PT1H
X-Robots-Tag:noindex
X-PUBLISHED-TTL:PT1H
BEGIN:VTIMEZONE
TZID:Europe/Berlin
BEGIN:DAYLIGHT
TZOFFSETFROM:+0100
TZOFFSETTO:+0200
TZNAME:CEST
DTSTART:20250330T010000
END:DAYLIGHT
BEGIN:STANDARD
TZOFFSETFROM:+0200
TZOFFSETTO:+0100
TZNAME:CET
DTSTART:20251026T010000
END:STANDARD
BEGIN:DAYLIGHT
TZOFFSETFROM:+0100
TZOFFSETTO:+0200
TZNAME:CEST
DTSTART:20260329T010000
END:DAYLIGHT
BEGIN:STANDARD
TZOFFSETFROM:+0200
TZOFFSETTO:+0100
TZNAME:CET
DTSTART:20261025T010000
END:STANDARD
BEGIN:DAYLIGHT
TZOFFSETFROM:+0100
TZOFFSETTO:+0200
TZNAME:CEST
DTSTART:20270328T010000
END:DAYLIGHT
BEGIN:STANDARD
TZOFFSETFROM:+0200
TZOFFSETTO:+0100
TZNAME:CET
DTSTART:20271031T010000
END:STANDARD
END:VTIMEZONE
BEGIN:VTIMEZONE
TZID:UTC
BEGIN:STANDARD
TZOFFSETFROM:+0000
TZOFFSETTO:+0000
TZNAME:UTC
DTSTART:20250101T000000
END:STANDARD
END:VTIMEZONE
BEGIN:VEVENT
DTSTART;TZID=Europe/Berlin:20260615T100000
DTEND;TZID=Europe/Berlin:20260616T170000
DTSTAMP:20260420T034052
CREATED:20260415T153336Z
LAST-MODIFIED:20260415T153336Z
UID:837-1781517600-1781629200@jointanchortechnique.org
SUMMARY:JAT1 - LIVE
DESCRIPTION:Die Gelenkankertechnik (JAT) ist eine sanfte und dennoch kraftvolle energetische Methode\, die die Ausrichtung und Balance des Körpers unterstützt – auf physischer\, struktureller und darüber hinausgehender Ebene. \nDiese vom australischen Chiropraktiker Geoff Leury entwickelte Methode bietet eine einzigartige Alternative zu traditionellen Techniken und der Kinesiologie. Anstatt direkt am Körper zu arbeiten\, nutzt JAT präzise energetische Korrekturen\, um Wirbelsäule\, Gelenke und viele weitere Strukturen zu unterstützen – darunter Organe\, Muskeln\, Bänder\, Faszien\, Zähne und die Aura. \nDas Besondere an dieser Technik ist ihre Subtilität und ihre einfache Anwendbarkeit. Sie ermöglicht es Ihnen\, effektiv mit Menschen zu arbeiten\, die manuelle Behandlungen möglicherweise nicht vertragen – wie Kinder\, ältere Menschen oder hochsensible Personen – und dennoch tiefgreifende und nachhaltige Veränderungen zu erzielen. \nWas Sie in diesem Kurs erwartet \nDies ist keine rein theoretische Ausbildung – Sie werden von Anfang an aktiv üben. \nIm Kurs werden Sie: \n\ndie Kernprinzipien der Joint Anchor Technique (JAT) erlernen\ndas Geben und Empfangen energetischer Korrekturen üben\nerleben\, wie schnell der Körper auf subtile Reize reagiert\nSicherheit im Umgang mit der JAT – sowohl persönlich als auch online – entwickeln\n\nDer Kurs ist interaktiv\, erfahrungsorientiert und praxisnah gestaltet\, sodass Sie nicht nur Wissen\, sondern auch sofort anwendbare Fähigkeiten erwerben. \nOnline-Lernen – flexibel und effektiv \nDie JAT eignet sich besonders gut für Online-Lernen\, da sie ohne physische Manipulation auskommt. \nDas bedeutet: \n\nSie können bequem von zu Hause aus lernen.\nSie üben sofort mit Fernbalancen und haben die nötigen Werkzeuge\, um persönlich und selbstständig Balancen durchzuführen.\nSie erhalten Werkzeuge\, die Sie jederzeit und überall einsetzen können.\n\nAuch online vermittelt der Kurs ein starkes Gefühl von Verbundenheit\, Unterstützung und gemeinsamem Lernen. \nWarum Teilnehmer diesen Kurs lieben \nTeilnehmer beschreiben JAT oft als: \n\n„Überraschend einfach und doch tiefgreifend wirksam“\n„Eine völlig neue Art\, den Körper zu verstehen“\n„Sanft\, aber unglaublich kraftvoll“\nViele sind erstaunt\, wie schnell sie erste Ergebnisse sehen – sowohl bei sich selbst als auch in der Arbeit mit anderen.\n\nFür wen ist dieser Kurs geeignet? \nDieser Kurs richtet sich an: \n\nPraktiker\, die ihr Repertoire erweitern möchten\nTherapeuten\, die einen nicht-invasiven Ansatz suchen\nAlle\, die sich für Energiearbeit und Körperbalance interessieren\nAnfänger\, die sich zu einer subtilen und intuitiven Arbeit mit dem Körper hingezogen fühlen\n\nDauer:  \n14 Stunden \nVoraussetzungen:  \nKeine\, nur Interesse \nPreis: \n300 Euro \nMelde dich hier an \n 
URL:https://jointanchortechnique.org/event/jat1-live
LOCATION:Thierachern\, Thierachern\, Switzerland
CATEGORIES:Deutsch,JAT1,LIVE
ATTACH;FMTTYPE=image/jpeg:https://jointanchortechnique.org/wp-content/uploads/2021/04/joshua-coleman-fXls-tVemno-unsplash-scaled.jpg
END:VEVENT
BEGIN:VEVENT
DTSTART;TZID=UTC:20260711T090000
DTEND;TZID=UTC:20260712T170000
DTSTAMP:20260420T034052
CREATED:20251203T180548Z
LAST-MODIFIED:20251203T180548Z
UID:828-1783760400-1783875600@jointanchortechnique.org
SUMMARY:JAT1 Deutsch in Präsenz
DESCRIPTION:Joint Anchor Technique bietet viele Möglichkeiten und das Gute ist: Diese Methode lässt sich auch online vermitteln und eignet sich gut für Selbst- und Fernbalancen! \nSie haben die Möglichkeit\, intensiv von zu Hause aus zu lernen und sind dabei zeitlich noch flexibler. \nJoint Anchor Technique ist auf dem Konzept basiert\, dass jede nachhaltige Heilung einen Selbstheilungsprozess voraussetzt. Die Fähigkeit zur Selbstheilung und Gesunderhaltung ist jedem Menschen gegeben und selbstregulierend. \nJedoch kann es passieren\, dass die Fähigkeit zur Selbstheilung teilweise verloren geht und der Mensch dadurch außerhalb des Bereichs der Selbstregulation oder Heilungsunabhängigkeit landet. Selbstheilung und Gesunderhaltung sind dann nicht mehr möglich. Das ist der Punkt\, an dem gesundheitliche Probleme entstehen. \nDie Joint Anchor Technique hilft in den Bereich der unabhängigen Heilung zurück zu kehren. Das findet komplett ohne Berührung statt. Es ist eine sanfte Möglichkeit\, um auf energetischer Art tiefe und bleibende Ergebnisse zu erreichen. \nIn diesem Basisseminar werden wir die Grundlagen der Methode sowie einige Techniken kennenlernen\, die es erlauben die Körperstruktur im Allgemeinen und die Gelenke im Speziellen auszubalancieren. \nFür mich buchen \n 
URL:https://jointanchortechnique.org/event/jat1-deutsch-in-prasenz
LOCATION:Buchenbach\, Germany
CATEGORIES:Deutsch,JAT1
ATTACH;FMTTYPE=image/jpeg:https://jointanchortechnique.org/wp-content/uploads/2021/04/joshua-coleman-fXls-tVemno-unsplash-scaled.jpg
END:VEVENT
BEGIN:VEVENT
DTSTART;TZID=Europe/Berlin:20260926T090000
DTEND;TZID=Europe/Berlin:20260927T180000
DTSTAMP:20260420T034052
CREATED:20211112T090934Z
LAST-MODIFIED:20260415T150055Z
UID:507-1790413200-1790532000@jointanchortechnique.org
SUMMARY:JAT1 Deutsch Online
DESCRIPTION:Joint Anchor Technique bietet viele Möglichkeiten und das Gute ist: Diese Methode lässt sich auch online vermitteln und eignet sich gut für Selbst- und Fernbalancen! \nSie haben die Möglichkeit\, intensiv von zu Hause aus zu lernen und sind dabei zeitlich noch flexibler. \nJoint Anchor Technique ist auf dem Konzept basiert\, dass jede nachhaltige Heilung einen Selbstheilungsprozess voraussetzt. Die Fähigkeit zur Selbstheilung und Gesunderhaltung ist jedem Menschen gegeben und selbstregulierend. \nJedoch kann es passieren\, dass die Fähigkeit zur Selbstheilung teilweise verloren geht und der Mensch dadurch außerhalb des Bereichs der Selbstregulation oder Heilungsunabhängigkeit landet. Selbstheilung und Gesunderhaltung sind dann nicht mehr möglich. Das ist der Punkt\, an dem gesundheitliche Probleme entstehen.  \nDie Joint Anchor Technique hilft in den Bereich der unabhängigen Heilung zurück zu kehren. Das findet komplett ohne Berührung statt. Es ist eine sanfte Möglichkeit\, um auf energetischer Art tiefe und bleibende Ergebnisse zu erreichen.  \nIn diesem Basisseminar werden wir die Grundlagen der Methode sowie einige Techniken kennenlernen\, die es erlauben die Körperstruktur im Allgemeinen und die Gelenke im Speziellen auszubalancieren.  \nFür mich buchen
URL:https://jointanchortechnique.org/event/jat1-deutsch-online
LOCATION:Online
CATEGORIES:Deutsch,JAT1
ATTACH;FMTTYPE=image/jpeg:https://jointanchortechnique.org/wp-content/uploads/2021/04/joshua-coleman-fXls-tVemno-unsplash-scaled.jpg
END:VEVENT
BEGIN:VEVENT
DTSTART;TZID=UTC:20270129T090000
DTEND;TZID=UTC:20270131T180000
DTSTAMP:20260420T034052
CREATED:20211112T091238Z
LAST-MODIFIED:20260415T150401Z
UID:511-1801213200-1801418400@jointanchortechnique.org
SUMMARY:JAT2 Deutsch Online
DESCRIPTION:In diesem Kurs lernt man faszinierende Erweiterungen der Techniken aus Joint Anchor 1 (JAT 1) kennen und anzuwenden. Zusätzlich erweitert man sein Repertoire an spezifischen Werkzeugen.  \nDie Kursteilnehmer werden ermutigt ihre individuellen Heilungsstile zu erkennen und zu pflegen und weitere Techniken gemäß der Joint Anchor Technik zu entwickeln.  \nJoint Anchor 2 enthält Techniken\, die sich mit folgenden Themen befassen:  \n\nElemente: erde\, Luft\, Feuer und Wasser \nBlutkreislauf: allgemein und koronar \nAusrichtung und Stabilisierung des physischen\, mentalen\, emotionalen und spirituellen Körpers \nHarnsystem: männlich und weiblich \nFortpflanzungssystem: männlich und weiblich \nGangmechanismus \nMagen-Darm-System \nVergangenheit\, Gegenwart und Zukunft \nGleichgewicht des autonomen Nervensystems \nAtmungssystem \nInformationsfluss zwischen Aura und physischem Körper \nEnergetische Chirurgie: Negative Energie ausschneiden oder verbrennen\nIm Rahmen des Kurses sind mehrere Übungseinheiten für die Teilnehmer geplant\, damit sie viel Erfahrungen mit dem neuen Material sammeln können. Aufgrund des Online-Formates wird der Fokus auf Fernheilung liegen. \n\nVoraussetzung: JAT1 \nFür mich buchen
URL:https://jointanchortechnique.org/event/jat2-deutsch-online
LOCATION:Online
CATEGORIES:Deutsch,JAT2
ATTACH;FMTTYPE=image/jpeg:https://jointanchortechnique.org/wp-content/uploads/2021/04/aaron-burden-Kp9z6zcUfGw-unsplash-scaled.jpg
END:VEVENT
END:VCALENDAR