BEGIN:VCALENDAR
VERSION:2.0
PRODID:-//Joint Anchor Technique - ECPv6.15.20//NONSGML v1.0//EN
CALSCALE:GREGORIAN
METHOD:PUBLISH
X-ORIGINAL-URL:https://jointanchortechnique.org
X-WR-CALDESC:Events for Joint Anchor Technique
REFRESH-INTERVAL;VALUE=DURATION:PT1H
X-Robots-Tag:noindex
X-PUBLISHED-TTL:PT1H
BEGIN:VTIMEZONE
TZID:UTC
BEGIN:STANDARD
TZOFFSETFROM:+0000
TZOFFSETTO:+0000
TZNAME:UTC
DTSTART:20230101T000000
END:STANDARD
END:VTIMEZONE
BEGIN:VEVENT
DTSTART;TZID=UTC:20240308T090000
DTEND;TZID=UTC:20240310T170000
DTSTAMP:20260422T102358
CREATED:20240209T171813Z
LAST-MODIFIED:20240209T172111Z
UID:729-1709888400-1710090000@jointanchortechnique.org
SUMMARY:Tecnica di Ancoraggio Articolare 2
DESCRIPTION:In questo corso imparerai a conoscere e applicare un’affascinante estensione delle tecniche eplangetiche da TAA1 e amplierai il tuo repertorio di strumenti specifici. TAA 2 include tecniche che si occupano di: \nElementi: terra\, aria\, fuoco e acqua\nCircolazione: generale e coronarica\nAllineamento e stabilizzazione del corpo fisico\, mentale\, emozionale e spirituale\nApparato urinario\, maschile e femminile\nSistema riproduttivo\, maschile e femminile\nMeccanismo dell’andatura\nSistema gastrointestinale\nIl passato\, presente e futuro\nEquilibrio del sistema nervoso autonomo\nSistema respiratorio\nFlusso di informazioni tra l’aura e il corpo fisico\nChirurgia energetica: tagliare o bruciare energia negativa\nSarai anche incoraggiato a riconoscere e coltivare il tuo stile di guarigione individuale e a sviluppare ulteriori tecniche in accordo con la tecnica di ‘ancoraggio articolare. \nIscriviti qua
URL:https://jointanchortechnique.org/event/tecnica-di-ancoraggio-articolare-2-2
LOCATION:Online
CATEGORIES:Italian,JAT2
ATTACH;FMTTYPE=image/jpeg:https://jointanchortechnique.org/wp-content/uploads/2021/04/aaron-burden-Kp9z6zcUfGw-unsplash-scaled.jpg
END:VEVENT
END:VCALENDAR